BEGIN:VCALENDAR
VERSION:2.0
PRODID:-// - ECPv6.15.20//NONSGML v1.0//EN
CALSCALE:GREGORIAN
METHOD:PUBLISH
X-ORIGINAL-URL:https://theodidier.fr
X-WR-CALDESC:Évènements pour 
REFRESH-INTERVAL;VALUE=DURATION:PT1H
X-Robots-Tag:noindex
X-PUBLISHED-TTL:PT1H
BEGIN:VTIMEZONE
TZID:Europe/Paris
BEGIN:DAYLIGHT
TZOFFSETFROM:+0100
TZOFFSETTO:+0200
TZNAME:CEST
DTSTART:20250330T010000
END:DAYLIGHT
BEGIN:STANDARD
TZOFFSETFROM:+0200
TZOFFSETTO:+0100
TZNAME:CET
DTSTART:20251026T010000
END:STANDARD
BEGIN:DAYLIGHT
TZOFFSETFROM:+0100
TZOFFSETTO:+0200
TZNAME:CEST
DTSTART:20260329T010000
END:DAYLIGHT
BEGIN:STANDARD
TZOFFSETFROM:+0200
TZOFFSETTO:+0100
TZNAME:CET
DTSTART:20261025T010000
END:STANDARD
BEGIN:DAYLIGHT
TZOFFSETFROM:+0100
TZOFFSETTO:+0200
TZNAME:CEST
DTSTART:20270328T010000
END:DAYLIGHT
BEGIN:STANDARD
TZOFFSETFROM:+0200
TZOFFSETTO:+0100
TZNAME:CET
DTSTART:20271031T010000
END:STANDARD
END:VTIMEZONE
BEGIN:VEVENT
DTSTART;TZID=Europe/Paris:20260801T210000
DTEND;TZID=Europe/Paris:20260801T223000
DTSTAMP:20260420T123024
CREATED:20260310T221345Z
LAST-MODIFIED:20260310T221652Z
UID:549-1785618000-1785623400@theodidier.fr
SUMMARY:Fête St Martin en Vercors
DESCRIPTION:
URL:https://theodidier.fr/event/fete-st-martin-en-vercors/
LOCATION:Place de l’Ours\, St Martin en Vercors (26420)\, 26420\, France
END:VEVENT
BEGIN:VEVENT
DTSTART;TZID=Europe/Paris:20260820T200000
DTEND;TZID=Europe/Paris:20260820T230000
DTSTAMP:20260420T123024
CREATED:20260302T173334Z
LAST-MODIFIED:20260310T220605Z
UID:270-1787256000-1787266800@theodidier.fr
SUMMARY:Les Jeudis de l'Été
DESCRIPTION:
URL:https://theodidier.fr/event/les-jeudis-de-lete/
LOCATION:Centre ville\, Lamastre (07270)\, 07270\, France
END:VEVENT
END:VCALENDAR